BEGIN:VCALENDAR
VERSION:2.0
PRODID:-//Cool Little Town - ECPv6.15.20//NONSGML v1.0//EN
CALSCALE:GREGORIAN
METHOD:PUBLISH
X-WR-CALNAME:Cool Little Town
X-ORIGINAL-URL:https://hokitika.org
X-WR-CALDESC:Events for Cool Little Town
REFRESH-INTERVAL;VALUE=DURATION:PT1H
X-Robots-Tag:noindex
X-PUBLISHED-TTL:PT1H
BEGIN:VTIMEZONE
TZID:Pacific/Auckland
BEGIN:STANDARD
TZOFFSETFROM:+1300
TZOFFSETTO:+1200
TZNAME:NZST
DTSTART:20250405T140000
END:STANDARD
BEGIN:DAYLIGHT
TZOFFSETFROM:+1200
TZOFFSETTO:+1300
TZNAME:NZDT
DTSTART:20250927T140000
END:DAYLIGHT
BEGIN:STANDARD
TZOFFSETFROM:+1300
TZOFFSETTO:+1200
TZNAME:NZST
DTSTART:20260404T140000
END:STANDARD
BEGIN:DAYLIGHT
TZOFFSETFROM:+1200
TZOFFSETTO:+1300
TZNAME:NZDT
DTSTART:20260926T140000
END:DAYLIGHT
BEGIN:STANDARD
TZOFFSETFROM:+1300
TZOFFSETTO:+1200
TZNAME:NZST
DTSTART:20270403T140000
END:STANDARD
BEGIN:DAYLIGHT
TZOFFSETFROM:+1200
TZOFFSETTO:+1300
TZNAME:NZDT
DTSTART:20270925T140000
END:DAYLIGHT
END:VTIMEZONE
BEGIN:VEVENT
DTSTART;TZID=Pacific/Auckland:20260425T100000
DTEND;TZID=Pacific/Auckland:20260425T160000
DTSTAMP:20260422T072149
CREATED:20260408T033853Z
LAST-MODIFIED:20260408T033853Z
UID:8544-1777111200-1777132800@hokitika.org
SUMMARY:Energy Healing Workshop
DESCRIPTION:Greenstone Retreat – Kelly MacNeill\nLearn Energy Healing for yourself\, friends and family \nWhatever your level – come for some interactive\, energetic fun \nConnect to your surroundings\, nature\, each other and the great cosmos \nGrounding\, Attuning\, Permission and Protection – all in there \nHealing for yourself – in there \nHealing for others – in there \nThis is Sacred 7™ work – the first of many events. A springboard to Sacred Purpose.\nJust bring yourself\, some sustenance\, layers of clothing – and an open heart and mind \nLet the fun begin \nKelly is an energetic dynamo – a natural healer and channel – her process grounded in the teachings of The National Federation of Spiritual Healers (NFSH) – now The Healing Trust – UK.\nIf you are are newbie – Training Courses are in development to enable you to take these skills to a wider audience. Come along to this workshop and get a feel for it \nIf you already work in a healing environment – CPD and further training are on their way – these workshops and courses will elevate you – on all levels  Come have some fun \nAROHANUI \n$160 for a WHOLE DAY with me \nIt is easy to Book Online (you can choose to pay now or later) – just go through the ticket link here – choose the School – Workshops and Tuition option – choose your workshop (Energy Healing) and date (25th April) – time (10am) and go through to checkout. Simples \nLimited spaces. Intimate and powerful 
URL:https://hokitika.org/event/energy-healing-workshop/
LOCATION:Greenstone Retreat Kumara\, 45 Greenstone Road\, Kumara\, Westland\, 7832\, New Zealand
ATTACH;FMTTYPE=image/jpeg:https://hokitika.org/wp-content/uploads/2026/04/energy-healing-workshop.jpg
ORGANIZER;CN="Greenstone Retreat Kumara":MAILTO:greenstoneretreat@outlook.com
END:VEVENT
BEGIN:VEVENT
DTSTART;TZID=Pacific/Auckland:20260426T110000
DTEND;TZID=Pacific/Auckland:20260426T160000
DTSTAMP:20260422T072149
CREATED:20260402T105856Z
LAST-MODIFIED:20260402T105856Z
UID:8522-1777201200-1777219200@hokitika.org
SUMMARY:Oceana Miniature Horse Family Fun Day
DESCRIPTION:Kumara Racecourse – gold coin entry \nDisplay and judging of miniature horse jumping and obstacle course \nGet up close with our miniature horses \nHobby horse competition for adults and children \nChildren’s competitions \nErzsi’s eats & espresso
URL:https://hokitika.org/event/oceana-miniature-horse-family-fun-day/
LOCATION:Kumara Racecourse\, Otira Highway
ATTACH;FMTTYPE=image/jpeg:https://hokitika.org/wp-content/uploads/2026/04/kumara.jpg
END:VEVENT
BEGIN:VEVENT
DTSTART;TZID=Pacific/Auckland:20260427T190000
DTEND;TZID=Pacific/Auckland:20260427T213000
DTSTAMP:20260422T072149
CREATED:20260307T201811Z
LAST-MODIFIED:20260307T201811Z
UID:8444-1777316400-1777325400@hokitika.org
SUMMARY:Aotango - Hokitika Regent Theatre
DESCRIPTION:‘Ao’\, meaning ‘world’ in Te Reo Maori is at the epicentre of AOTANGO. Enjoy their seamless fusion of world music and tango\, in an eclectic mix of styles presented by musicians who call Aotearoa their home. Based in Tamaki Makaurau\, AOTANGO features violinist Andrew Beer (APO Concertmaster)\, pianist Somi Kim (NZTrio)\, double bassist Gordon Hill (APO Section Principal)\, jazz guitarist Sam Swindells and award-winning accordionist Grayson Masefield.
URL:https://hokitika.org/event/aotango-hokitika-regent-theatre/
LOCATION:Hokitika Regent Theatre\, 23 Weld Street\, Hokitika\, Westland\, 7810\, New Zealand
ATTACH;FMTTYPE=image/jpeg:https://hokitika.org/wp-content/uploads/2026/03/104294_1.jpg
ORGANIZER;CN="The Manager%2C Hokitika's Regent Theatre":MAILTO:manager@hokitikaregent.com
END:VEVENT
BEGIN:VEVENT
DTSTART;VALUE=DATE:20260429
DTEND;VALUE=DATE:20260503
DTSTAMP:20260422T072149
CREATED:20260402T105259Z
LAST-MODIFIED:20260402T105259Z
UID:8519-1777420800-1777766399@hokitika.org
SUMMARY:The Pink HAMMER
DESCRIPTION:A heartwarming kiwi comedy with a dramatic twist… \nA play by Michelle Amas\, directed by Sally Richardson \nWeds 29th & Thurs 30th April \nFri 1st & Sat 2nd May \n7pm at the Old Lodge Theatre Hokitika \nDrinks\, refreshments and licenced bar available
URL:https://hokitika.org/event/the-pink-hammer/
LOCATION:The Old Lodge Theatre\, 11 Revell Street\, Hokitika\, Westland\, 7810\, New Zealand
ATTACH;FMTTYPE=image/jpeg:https://hokitika.org/wp-content/uploads/2026/04/old-lodge.jpg
END:VEVENT
END:VCALENDAR