BEGIN:VCALENDAR
VERSION:2.0
PRODID:-//Cool Little Town - ECPv6.15.20//NONSGML v1.0//EN
CALSCALE:GREGORIAN
METHOD:PUBLISH
X-WR-CALNAME:Cool Little Town
X-ORIGINAL-URL:https://hokitika.org
X-WR-CALDESC:Events for Cool Little Town
REFRESH-INTERVAL;VALUE=DURATION:PT1H
X-Robots-Tag:noindex
X-PUBLISHED-TTL:PT1H
BEGIN:VTIMEZONE
TZID:UTC
BEGIN:STANDARD
TZOFFSETFROM:+0000
TZOFFSETTO:+0000
TZNAME:UTC
DTSTART:20210101T000000
END:STANDARD
END:VTIMEZONE
BEGIN:VEVENT
DTSTART;VALUE=DATE:20220126
DTEND;VALUE=DATE:20220131
DTSTAMP:20260426T031601
CREATED:20220127T112113Z
LAST-MODIFIED:20220127T124757Z
UID:5002-1643155200-1643587199@hokitika.org
SUMMARY:Driftwood & Sand Festival
DESCRIPTION:The Driftwood & Sand Festival is held annually in January and is a place where budding artists can work alongside professionals to create their own masterpieces from beach finds on Hokitika Beach. The event is able to go ahead under the red traffic light restrictions. See the Driftwood & Sand website for further details.
URL:https://hokitika.org/event/driftwood-sand-festival/
LOCATION:Hokitika Beach\, Beach Street\, Hokitika\, Westland\, New Zealand
ATTACH;FMTTYPE=image/jpeg:https://hokitika.org/wp-content/uploads/2022/01/ds2022.jpg
END:VEVENT
END:VCALENDAR