BEGIN:VCALENDAR
VERSION:2.0
PRODID:-//Cool Little Town - ECPv6.15.20//NONSGML v1.0//EN
CALSCALE:GREGORIAN
METHOD:PUBLISH
X-ORIGINAL-URL:https://hokitika.org
X-WR-CALDESC:Events for Cool Little Town
REFRESH-INTERVAL;VALUE=DURATION:PT1H
X-Robots-Tag:noindex
X-PUBLISHED-TTL:PT1H
BEGIN:VTIMEZONE
TZID:Pacific/Auckland
BEGIN:STANDARD
TZOFFSETFROM:+1300
TZOFFSETTO:+1200
TZNAME:NZST
DTSTART:20250405T140000
END:STANDARD
BEGIN:DAYLIGHT
TZOFFSETFROM:+1200
TZOFFSETTO:+1300
TZNAME:NZDT
DTSTART:20250927T140000
END:DAYLIGHT
BEGIN:STANDARD
TZOFFSETFROM:+1300
TZOFFSETTO:+1200
TZNAME:NZST
DTSTART:20260404T140000
END:STANDARD
BEGIN:DAYLIGHT
TZOFFSETFROM:+1200
TZOFFSETTO:+1300
TZNAME:NZDT
DTSTART:20260926T140000
END:DAYLIGHT
BEGIN:STANDARD
TZOFFSETFROM:+1300
TZOFFSETTO:+1200
TZNAME:NZST
DTSTART:20270403T140000
END:STANDARD
BEGIN:DAYLIGHT
TZOFFSETFROM:+1200
TZOFFSETTO:+1300
TZNAME:NZDT
DTSTART:20270925T140000
END:DAYLIGHT
BEGIN:STANDARD
TZOFFSETFROM:+1300
TZOFFSETTO:+1200
TZNAME:NZST
DTSTART:20280401T140000
END:STANDARD
BEGIN:DAYLIGHT
TZOFFSETFROM:+1200
TZOFFSETTO:+1300
TZNAME:NZDT
DTSTART:20280923T140000
END:DAYLIGHT
END:VTIMEZONE
BEGIN:VEVENT
DTSTART;TZID=Pacific/Auckland:20260513T190000
DTEND;TZID=Pacific/Auckland:20260513T213000
DTSTAMP:20260423T094722
CREATED:20260307T202028Z
LAST-MODIFIED:20260307T202028Z
UID:8447-1778698800-1778707800@hokitika.org
SUMMARY:The Big Bike Film Night - Hokitika Regent Theatre
DESCRIPTION:The Big Bike Film Night is on a mission – bringing the best short cycling films from around the world together for you. Showcasing 2.5 hours of mesmerizing bike films that have everything a cycle-centric audience could want\, action\, drama\, humour\, and plenty of inspiration. The evening is unashamedly and utterly\, utterly\, utterly designed and devised to delight the two-wheel devotee! The 2026 treasure chest of films includes: – a dazzling mountain bike ride exploring the breathtaking landscapes of Norway\, embracing the magic of the midnight sun – a life-changing experience for two adventurous women as they embark to cycle to all the ski-fields in New Zealand in one gigantic attempt – an inspiring film that captures the wettest\, most miserable riding conditions imaginable – a film that playfully delves into the world of those taking cycling to new heights – celebrating fun\, silliness\, and creativity that comes with pushing boundaries on two wheels – a compelling story about perseverance\, showcasing the challenges and triumphs of navigating daily life following a life-altering injury\, and how adaptive design has transformed and enriched the journey forward – a moving movie that follows a father and son’s journey as they take on one of life’s most meaningful milestones- riding a bike together as a family – a bold and uplifting story of an adventure activist\, attempting to break the 24-hour Guinness World Record in downhill mountain biking- all to raise funds for reforesting foothills around Queenstown\, New Zealand. Her relentless pursuit not only pushes the limits of endurance but also becomes a powerful symbol of resilience and environmental commitment – and crowning the night off- we all love an underdog tale. This charming\, funny\, heartfelt film inspires us to believe that we all have the capacity to be unlikely heroes in our own stories. The audience is transported back to the nostalgic 1990’s\, to the slopes of the punishing Mont Ventoux\, in Southern France\, to witness the drama of a battle between two giants ALL in the mix! These short films are a great reminder of why we love to ride our bike; with stories that captivate us\, stories that move us\, and most importantly of all – inspiring us to get out and ride. All celebrate the fun\, adventure\, and joy that cycling enables. So…listen to the voice inside you; it’s telling you to go. Grab your mates\, GO ON…grab your bike and come along for the ride!! PREVIOUS ATTENDEE’S COMMENTS: “One of the most inspiring events of the year” “If you only have one night a year out\, make it this!!” “The Big Bike Film Night is always a wonderful\, eclectic\, wacky mix of films and I love it!” “If you haven’t experienced the cinematic excellence of The Big Bike Film Night – then YOU MUST!!!”
URL:https://hokitika.org/event/the-big-bike-film-night-hokitika-regent-theatre/
LOCATION:Hokitika Regent Theatre\, 23 Weld Street\, Hokitika\, Westland\, 7810\, New Zealand
ATTACH;FMTTYPE=image/jpeg:https://hokitika.org/wp-content/uploads/2026/03/104293_1.jpg
ORGANIZER;CN="The Manager%2C Hokitika's Regent Theatre":MAILTO:manager@hokitikaregent.com
END:VEVENT
BEGIN:VEVENT
DTSTART;TZID=Pacific/Auckland:20260525T190000
DTEND;TZID=Pacific/Auckland:20260525T210000
DTSTAMP:20260423T094722
CREATED:20260307T202232Z
LAST-MODIFIED:20260307T202232Z
UID:8450-1779735600-1779742800@hokitika.org
SUMMARY:Sean Kelly & the Super 8's
DESCRIPTION:Irish folk music and stories\, with old movies. Enjoy live Irish music played to the backdrop of Super 8 movies taken in Ireland\, with Sean Kelly on vocals\, whistles\, bodhran and guitar\, Jono Lonie on fiddle and mandolin and Maree Limpus on cello. Presented in association with Arts on Tour
URL:https://hokitika.org/event/sean-kelly-the-super-8s/
LOCATION:Hokitika Regent Theatre\, 23 Weld Street\, Hokitika\, Westland\, 7810\, New Zealand
ATTACH;FMTTYPE=image/jpeg:https://hokitika.org/wp-content/uploads/2026/03/104308_1.jpg
ORGANIZER;CN="The Manager%2C Hokitika's Regent Theatre":MAILTO:manager@hokitikaregent.com
END:VEVENT
BEGIN:VEVENT
DTSTART;TZID=Pacific/Auckland:20260530T190000
DTEND;TZID=Pacific/Auckland:20260530T220000
DTSTAMP:20260423T094722
CREATED:20260307T203019Z
LAST-MODIFIED:20260307T203019Z
UID:8459-1780167600-1780178400@hokitika.org
SUMMARY:South African Night - Ocean View Restaurant
DESCRIPTION:What a night it was last year We’re bringing the energy back on 30 May 2026! \nJoin us for an exciting and entertaining night – everyone is welcome!Seats fill fast so secure yours early.
URL:https://hokitika.org/event/south-african-night-ocean-view-restaurant/
LOCATION:the beachfront hotel\, 111 Revell Street\, Hokitika\, Westland\, New Zealand
ATTACH;FMTTYPE=image/jpeg:https://hokitika.org/wp-content/uploads/2026/03/644227896_1527404332725575_7406335526021018744_n.jpg
END:VEVENT
BEGIN:VEVENT
DTSTART;TZID=Pacific/Auckland:20260605T173000
DTEND;TZID=Pacific/Auckland:20260605T193000
DTSTAMP:20260423T094722
CREATED:20260408T034449Z
LAST-MODIFIED:20260408T034449Z
UID:8551-1780680600-1780687800@hokitika.org
SUMMARY:Annual Hokitika Lantern Parade
DESCRIPTION:This year our theme is “the moon and the Matariki stars” – we’ll be delivering lanterns to the schools and preschools again. \nThe parade will be held on the first fine Friday in June – hopefully 5 June!. \nThe route will start and finish at the Custom house – you’ll walk around the moon stationed near the Tambo. \nFood\, drink\, heating and “glow in the dark” activities kick off at 5.30pm with the parade starting at 6pm once it’s dark. \nThere is no cost to participate
URL:https://hokitika.org/event/annual-hokitika-lantern-parade/
LOCATION:Custom House\, Gibson Quay\, Hokitika
CATEGORIES:Family Events
ATTACH;FMTTYPE=image/jpeg:https://hokitika.org/wp-content/uploads/2026/04/659068715_932453052826313_863516704147507070_n.jpg
ORGANIZER;CN="Hokitika Community Trust":MAILTO:hokitikact@gmail.com
END:VEVENT
BEGIN:VEVENT
DTSTART;TZID=Pacific/Auckland:20260613T193000
DTEND;TZID=Pacific/Auckland:20260613T213000
DTSTAMP:20260423T094722
CREATED:20260215T192715Z
LAST-MODIFIED:20260215T192855Z
UID:8283-1781379000-1781386200@hokitika.org
SUMMARY:Paul Ego: Stick Comedy Tour - Hokitika Regent Theatre
DESCRIPTION:Paul Ego ‘STICK’ – NZ Tour 2026 \nIt’s taken 30 years of performing comedy for PAUL EGO to get off his butt and do a solo NZ tour\, so this is both very exciting and long overdue! \nWell known for his many years as Team Captain on the TV show 7DAYS\, Paul has also been part of award winning Breakfast Radio shows for both More FM and The Rock. \nHowever\, his crowning achievement now seems to be voicing “Stickman”\, for PAK’nSAVE – something he happily admits is “the best job he’s ever had. \nSTICK\, is your chance to see “NZ’s” Top Professional Comedian PAUL EGO\, live onstage\, delivering maximum laughs as he talks stickability\, sticky situations and Stick-Men. \n“Ego is undeniably the Master of Improv\, his spells of banter with the audience showcasing his razor-sharp wit” (Yahoo Entertainment) \n“Paul Ego is a really funny man. A powerful performance by NZ;s top professional comedian and one of the highlights of my comedy festival” (Theatreview) \n“Paul Ego has proved to be 7DAYS quickest wit. He really should have his own fanclub” (NZ Herald)
URL:https://hokitika.org/event/paul-ego-stick-comedy-tour-hokitika-regent-theatre/
LOCATION:Hokitika Regent Theatre\, 23 Weld Street\, Hokitika\, Westland\, 7810\, New Zealand
ATTACH;FMTTYPE=image/jpeg:https://hokitika.org/wp-content/uploads/2026/02/Paul-Ego.jpg
ORGANIZER;CN="The Manager%2C Hokitika's Regent Theatre":MAILTO:manager@hokitikaregent.com
END:VEVENT
BEGIN:VEVENT
DTSTART;TZID=Pacific/Auckland:20260711T170000
DTEND;TZID=Pacific/Auckland:20260711T190000
DTSTAMP:20260423T094722
CREATED:20260402T110400Z
LAST-MODIFIED:20260402T110400Z
UID:8526-1783789200-1783796400@hokitika.org
SUMMARY:Train of Lights
DESCRIPTION:Train of Lights \nMatariki Saturday – 5pm to 7pm \nWestland Industrial Heritage Park \nBrian Waugh Lane \n 
URL:https://hokitika.org/event/train-of-lights/
LOCATION:Westland Industrial Heritage Park\, 9 Brian Waugh Lane\, Hokitika\, Westland\, 7810\, New Zealand
ATTACH;FMTTYPE=image/jpeg:https://hokitika.org/wp-content/uploads/2026/04/Train-of-lights.jpg
END:VEVENT
BEGIN:VEVENT
DTSTART;TZID=Pacific/Auckland:20260820T190000
DTEND;TZID=Pacific/Auckland:20260820T210000
DTSTAMP:20260423T094722
CREATED:20260307T202421Z
LAST-MODIFIED:20260307T202421Z
UID:8453-1787252400-1787259600@hokitika.org
SUMMARY:Ash Grundwald - Hokitika Regent Theatre
DESCRIPTION:Australia’s premier bluesman returns to NZ after sold out shows in 2025! Renowned for his electrifying live shows\, Ash Grunwald has inspired a generation to hit the road in an old van to ‘surf by day jam by night’. The festival favourite brings a high energy\, vibrant live show with stacks of guitars and foot stomping blues. Part troubadour\, part storyteller -Ash has been selling out shows all over the world! Don’t miss this chance to see live blues music at it’s finest! Thursday 20th August at Hokitika’s Regent Theatre 7.00pm Doors / 7.30pm Show Family Friendly
URL:https://hokitika.org/event/ash-grundwald-hokitika-regent-theatre/
LOCATION:Hokitika Regent Theatre\, 23 Weld Street\, Hokitika\, Westland\, 7810\, New Zealand
ATTACH;FMTTYPE=image/jpeg:https://hokitika.org/wp-content/uploads/2026/03/104298_3.jpg
ORGANIZER;CN="The Manager%2C Hokitika's Regent Theatre":MAILTO:manager@hokitikaregent.com
END:VEVENT
BEGIN:VEVENT
DTSTART;VALUE=DATE:20270326
DTEND;VALUE=DATE:20270329
DTSTAMP:20260423T094722
CREATED:20260408T035035Z
LAST-MODIFIED:20260408T035035Z
UID:8554-1806019200-1806278399@hokitika.org
SUMMARY:Wild West Backyard Ultra
DESCRIPTION:LOCK IN THE DATE FOR 2027 \n\n\nWe are excited to announce that the Wild West Backyard Ultra will be back in 2027 \n\n\n FRIDAY MARCH 26TH 9AM \n\n\nWe will be starting on Good Friday next year – leaving lots of room for going long \n\n\nWe are already getting planning started – and we are so pumped to build on what we delivered this weekend! \n\n\nWe will keep you posted when registrations will be opening and give you all plenty of notice!\n\n\nSpread the word – let’s make 2027 bigger & better
URL:https://hokitika.org/event/wild-west-backyard-ultra/
LOCATION:Hokitika Beach\, Beach Street\, Hokitika\, Westland\, New Zealand
ATTACH;FMTTYPE=image/jpeg:https://hokitika.org/wp-content/uploads/2026/04/584800920_122132329568976631_3276024759686907581_n.jpg
ORGANIZER;CN="Wild West Backyard Ultra":MAILTO:thewildwestbyu@gmail.com
END:VEVENT
END:VCALENDAR