BEGIN:VCALENDAR
VERSION:2.0
PRODID:-//Cool Little Town - ECPv6.15.20//NONSGML v1.0//EN
CALSCALE:GREGORIAN
METHOD:PUBLISH
X-ORIGINAL-URL:https://hokitika.org
X-WR-CALDESC:Events for Cool Little Town
REFRESH-INTERVAL;VALUE=DURATION:PT1H
X-Robots-Tag:noindex
X-PUBLISHED-TTL:PT1H
BEGIN:VTIMEZONE
TZID:UTC
BEGIN:STANDARD
TZOFFSETFROM:+0000
TZOFFSETTO:+0000
TZNAME:UTC
DTSTART:20220101T000000
END:STANDARD
END:VTIMEZONE
BEGIN:VEVENT
DTSTART;TZID=UTC:20240309T070000
DTEND;TZID=UTC:20240309T170000
DTSTAMP:20260422T202142
CREATED:20231218T132328Z
LAST-MODIFIED:20231218T132328Z
UID:6449-1709967600-1710003600@hokitika.org
SUMMARY:Hokitika Classic Surf Competition
DESCRIPTION:The annual Hokitika Classic\, a true backyard surf competition. Kicking off first thing Saturday morning. A $20 entry fee will go towards entertainment and camping. Spot prizes will be awarded at the prizegiving.\n\n\n$20 entry fee\n\nNote that this event is on the same day as WildFoods festival. We recommend organising accommodation ahead of time.\n  \n 
URL:https://hokitika.org/event/hokitika-classic-surf-competition/
LOCATION:Hokitika Beach\, Beach Street\, Hokitika\, Westland\, New Zealand
CATEGORIES:150 Years
ATTACH;FMTTYPE=image/jpeg:https://hokitika.org/wp-content/uploads/2023/12/f444c987-70d4-4ed3-be6f-47a2acecc7b4.jpg
END:VEVENT
BEGIN:VEVENT
DTSTART;VALUE=DATE:20240302
DTEND;VALUE=DATE:20240303
DTSTAMP:20260422T202142
CREATED:20231002T161317Z
LAST-MODIFIED:20231002T161317Z
UID:6164-1709337600-1709423999@hokitika.org
SUMMARY:Lake Kaniere Triathlon
DESCRIPTION:The Lake Kaniere Scenic Triathlon\, in its 39th year includes a kayak triathlon\, swim triathlon\, long distance swim\, duathlon\, run\, walk\, junior swim triathlon and a junior duathlon.
URL:https://hokitika.org/event/lake-kaniere-triathlon/
LOCATION:Lake Kaniere\, Lake Kaniere\, Hokitika
CATEGORIES:150 Years
ATTACH;FMTTYPE=image/jpeg:https://hokitika.org/wp-content/uploads/2023/10/89204868_2711497838967427_3037074170748862464_n.jpg
END:VEVENT
BEGIN:VEVENT
DTSTART;VALUE=DATE:20240202
DTEND;VALUE=DATE:20240207
DTSTAMP:20260422T202142
CREATED:20231218T133628Z
LAST-MODIFIED:20250928T203246Z
UID:6460-1706832000-1707263999@hokitika.org
SUMMARY:Aviation100
DESCRIPTION:Celebrating 100 years of aviation in Westland. \nThe Westland District was introduced to the miracle of flight with the arrival of the Blazing Arrow – a biplane that gave joyrides to locals during the Hokitika Exhibition in 1924. Some 10 years later\, famous aviator Captain Bert Mercer\, established New Zealand’s first licensed commercial airline service offering scheduled services between Hokitika\, the glaciers and Haast. \nJoin us as we celebrate these remarkable milestones that have had a significant impact on the connection of Westland to the world. The celebration will take place on Waitangi Weekend 2024\, with a series of events and exhibitions to be hosted in Hokitika. \nFor full schedule and more information\, click here.
URL:https://hokitika.org/event/6460/
LOCATION:Hokitika Airport
CATEGORIES:150 Years
ATTACH;FMTTYPE=image/jpeg:https://hokitika.org/wp-content/uploads/2023/12/haast-2-150�c.jpg
END:VEVENT
BEGIN:VEVENT
DTSTART;VALUE=DATE:20240124
DTEND;VALUE=DATE:20240129
DTSTAMP:20260422T202142
CREATED:20231218T130846Z
LAST-MODIFIED:20231218T131642Z
UID:6443-1706054400-1706486399@hokitika.org
SUMMARY:Driftwood & Sand
DESCRIPTION:Held in January each year at Hokitika beach\, participants are invited to express themselves using beach-finds. Budding artists work side by side with professionals turning driftwood and other materials they find on the beach into sculptural pieces. All you need to bring is some imagination. \nRegistrations – 9am Wed 24 Jan until 10am Sun 28 Jan – by the Tambo Shipwreck Monument
URL:https://hokitika.org/event/driftwood-sand/
LOCATION:Hokitika Tambo\, Shipwreck Memorial\, Gibson Quay\, Hokitika\, Westland\, 7810\, New Zealand
CATEGORIES:150 Years
ATTACH;FMTTYPE=image/jpeg:https://hokitika.org/wp-content/uploads/2023/12/1-196_0.jpg
END:VEVENT
BEGIN:VEVENT
DTSTART;TZID=UTC:20240120T100000
DTEND;TZID=UTC:20240120T220000
DTSTAMP:20260422T202142
CREATED:20231218T132941Z
LAST-MODIFIED:20231218T133159Z
UID:6453-1705744800-1705788000@hokitika.org
SUMMARY:Living Waters Music Festival
DESCRIPTION:Join us for a groovy\, toe-tapping extravaganza at the Living Waters Music Festival! Get ready to dance\, sing\, and have a blast at this incredible outdoor event happening at 32c Adairs Road\, Ruatapu\, New Zealand in the beautiful West Coast landscape. With a lineup of amazing musicians and bands\, this festival promises to be an unforgettable experience. So grab your friends\, bring your good vibes\, and let the music move your soul! Don’t miss out on this epic celebration of music and community. See you there! \nGet your tickets here.
URL:https://hokitika.org/event/living-waters-music-festival/
LOCATION:32c Adairs Road\, Ruatapu\, New Zealand\, New Zealand
CATEGORIES:150 Years
ATTACH;FMTTYPE=image/jpeg:https://hokitika.org/wp-content/uploads/2023/12/https___cdn.evbuc_.com_images_618757259_1799660945223_1_original.jpeg
END:VEVENT
BEGIN:VEVENT
DTSTART;VALUE=DATE:20240106
DTEND;VALUE=DATE:20240107
DTSTAMP:20260422T202142
CREATED:20231002T160413Z
LAST-MODIFIED:20231002T160722Z
UID:6159-1704499200-1704585599@hokitika.org
SUMMARY:Gold Nuggets Race Day
DESCRIPTION:Join the Kumara Racing Club at the iconic Gold Nuggets race day! Come and experience the one and only Kumara Gold Nuggets race day\, be part of the fun and entertainment and enjoy the exhilaration and atmosphere of thoroughbred racing Kumara style.
URL:https://hokitika.org/event/gold-nuggets-race-day/
LOCATION:Kumara Racecourse\, Otira Highway
CATEGORIES:150 Years
ATTACH;FMTTYPE=image/jpeg:https://hokitika.org/wp-content/uploads/2023/10/317846318_652489146666851_984698833393763553_n.jpeg
END:VEVENT
BEGIN:VEVENT
DTSTART;TZID=UTC:20231207T080000
DTEND;TZID=UTC:20231210T170000
DTSTAMP:20260422T202142
CREATED:20231002T155936Z
LAST-MODIFIED:20231002T155936Z
UID:6156-1701936000-1702227600@hokitika.org
SUMMARY:True West Adventure Race 2023
DESCRIPTION:True West is an adventure challenge in some of New Zealand’s most remote and wild terrain. Teams of adventure athletes embark on non-stop races\, enduring grueling challenges across rugged terrain for up to 48 hours. Each team\, consisting of three or four competitors\, is required to be mixed gender.
URL:https://hokitika.org/event/true-west-adventure-race-2023/
LOCATION:Hokitika
CATEGORIES:150 Years
ATTACH;FMTTYPE=image/jpeg:https://hokitika.org/wp-content/uploads/2023/10/318089035_516884253712451_3344393589224376339_n.jpg
END:VEVENT
BEGIN:VEVENT
DTSTART;VALUE=DATE:20231118
DTEND;VALUE=DATE:20231119
DTSTAMP:20260422T202142
CREATED:20230712T211834Z
LAST-MODIFIED:20231002T154717Z
UID:5662-1700265600-1700351999@hokitika.org
SUMMARY:Ride The Wilderness Bike Race
DESCRIPTION:Ride the Wilderness Bike Race is back \nJoin us on Saturday\, 18 November for an exhilarating cycling adventure on the stunning West Coast Wilderness Trail. \nWith four great races to choose from\, there’s something for everyone:\n 126km starting at Ross\n 95km starting at Hokitika\n 59km starting at Cowboy Paradise\n 26km starting at Kumara\nAll races finish in Greymouth. \nWhether you ride a gravel bike\, mountain bike\, or e-bike\, this event is for you! \nDon’t miss out on the Early Bird Entries closing 13 August \nEnter now at www.ridethewilderness.co.nz. \nCategory prizes for the top three finishers in all categories\, and all participants aged 18 and over will receive a refreshing Monteith’s beer . \nTag your biking buddies and spread the word!\nLet’s Ride the Wilderness together! \nWhat Distance are you doing?\nwww.ridethewilderness.co.nz\n#RideTheWilderness #BikeRace #WestCoastWildernessTrail #AdventureAwaits
URL:https://hokitika.org/event/ride-the-wilderness-bike-race/
LOCATION:West Coast Wilderness Trail\, Hokitika\, Westland\, New Zealand
CATEGORIES:150 Years
ATTACH;FMTTYPE=image/jpeg:https://hokitika.org/wp-content/uploads/2023/07/ride-the-wilderness.jpg
ORGANIZER;CN="Ride the Wilderness":MAILTO:john@cjmsevents.co.nz
END:VEVENT
BEGIN:VEVENT
DTSTART;TZID=UTC:20231001T080000
DTEND;TZID=UTC:20231031T170000
DTSTAMP:20260422T202142
CREATED:20231002T155326Z
LAST-MODIFIED:20231002T155433Z
UID:6151-1696147200-1698771600@hokitika.org
SUMMARY:Junk2Funk Wearable Art Exhibition
DESCRIPTION:Junk2Funk 2023 is a wearable art exhibition where 75% of your entry must be made from recycled materials. Join the Junk2Funk Challenge. Deconstruct and create wearable art to be exhibited at the Hokitika Heritage Park!
URL:https://hokitika.org/event/junk2funk-wearable-art-exhibition/
LOCATION:Hokitika Heritage Park\, 9 Brian Waugh Lane\, Hokitika\, Westland\, 7810\, New Zealand
CATEGORIES:150 Years
ATTACH;FMTTYPE=image/jpeg:https://hokitika.org/wp-content/uploads/2023/10/unsplash-image-H14pfhlfr24.jpeg
END:VEVENT
END:VCALENDAR