BEGIN:VCALENDAR
VERSION:2.0
PRODID:-//Cool Little Town - ECPv6.15.20//NONSGML v1.0//EN
CALSCALE:GREGORIAN
METHOD:PUBLISH
X-WR-CALNAME:Cool Little Town
X-ORIGINAL-URL:https://hokitika.org
X-WR-CALDESC:Events for Cool Little Town
REFRESH-INTERVAL;VALUE=DURATION:PT1H
X-Robots-Tag:noindex
X-PUBLISHED-TTL:PT1H
BEGIN:VTIMEZONE
TZID:Pacific/Auckland
BEGIN:STANDARD
TZOFFSETFROM:+1300
TZOFFSETTO:+1200
TZNAME:NZST
DTSTART:20250405T140000
END:STANDARD
BEGIN:DAYLIGHT
TZOFFSETFROM:+1200
TZOFFSETTO:+1300
TZNAME:NZDT
DTSTART:20250927T140000
END:DAYLIGHT
BEGIN:STANDARD
TZOFFSETFROM:+1300
TZOFFSETTO:+1200
TZNAME:NZST
DTSTART:20260404T140000
END:STANDARD
BEGIN:DAYLIGHT
TZOFFSETFROM:+1200
TZOFFSETTO:+1300
TZNAME:NZDT
DTSTART:20260926T140000
END:DAYLIGHT
BEGIN:STANDARD
TZOFFSETFROM:+1300
TZOFFSETTO:+1200
TZNAME:NZST
DTSTART:20270403T140000
END:STANDARD
BEGIN:DAYLIGHT
TZOFFSETFROM:+1200
TZOFFSETTO:+1300
TZNAME:NZDT
DTSTART:20270925T140000
END:DAYLIGHT
END:VTIMEZONE
BEGIN:VEVENT
DTSTART;TZID=Pacific/Auckland:20260426T110000
DTEND;TZID=Pacific/Auckland:20260426T160000
DTSTAMP:20260426T054451
CREATED:20260402T105856Z
LAST-MODIFIED:20260402T105856Z
UID:8522-1777201200-1777219200@hokitika.org
SUMMARY:Oceana Miniature Horse Family Fun Day
DESCRIPTION:Kumara Racecourse – gold coin entry \nDisplay and judging of miniature horse jumping and obstacle course \nGet up close with our miniature horses \nHobby horse competition for adults and children \nChildren’s competitions \nErzsi’s eats & espresso
URL:https://hokitika.org/event/oceana-miniature-horse-family-fun-day/
LOCATION:Kumara Racecourse\, Otira Highway
ATTACH;FMTTYPE=image/jpeg:https://hokitika.org/wp-content/uploads/2026/04/kumara.jpg
END:VEVENT
END:VCALENDAR